BEGIN:VCALENDAR
VERSION:2.0
PRODID:-//Coles County Soil &amp; Water Conservation District - ECPv6.15.20//NONSGML v1.0//EN
CALSCALE:GREGORIAN
METHOD:PUBLISH
X-ORIGINAL-URL:http://www.colescountyswcd.org
X-WR-CALDESC:Events for Coles County Soil &amp; Water Conservation District
REFRESH-INTERVAL;VALUE=DURATION:PT1H
X-Robots-Tag:noindex
X-PUBLISHED-TTL:PT1H
BEGIN:VTIMEZONE
TZID:UTC
BEGIN:STANDARD
TZOFFSETFROM:+0000
TZOFFSETTO:+0000
TZNAME:UTC
DTSTART:20230101T000000
END:STANDARD
END:VTIMEZONE
BEGIN:VEVENT
DTSTART;TZID=UTC:20240910T073000
DTEND;TZID=UTC:20240910T083000
DTSTAMP:20260419T130619
CREATED:20240702T193124Z
LAST-MODIFIED:20240702T193124Z
UID:7054-1725953400-1725957000@www.colescountyswcd.org
SUMMARY:Board Meeting
DESCRIPTION:
URL:http://www.colescountyswcd.org/event/board-meeting-24/
LOCATION:CCSWCD\, 6021 Development Drive\, Suite 2\, Charleston\, IL\, 61920\, United States
CATEGORIES:Board Meetings
END:VEVENT
END:VCALENDAR